BEGIN:VCALENDAR
VERSION:2.0
PRODID:-//Farm Table - ECPv6.15.20//NONSGML v1.0//EN
CALSCALE:GREGORIAN
METHOD:PUBLISH
X-ORIGINAL-URL:https://farmtable.com.au
X-WR-CALDESC:Events for Farm Table
REFRESH-INTERVAL;VALUE=DURATION:PT1H
X-Robots-Tag:noindex
X-PUBLISHED-TTL:PT1H
BEGIN:VTIMEZONE
TZID:Australia/Melbourne
BEGIN:STANDARD
TZOFFSETFROM:+1100
TZOFFSETTO:+1000
TZNAME:AEST
DTSTART:20250405T160000
END:STANDARD
BEGIN:DAYLIGHT
TZOFFSETFROM:+1000
TZOFFSETTO:+1100
TZNAME:AEDT
DTSTART:20251004T160000
END:DAYLIGHT
BEGIN:STANDARD
TZOFFSETFROM:+1100
TZOFFSETTO:+1000
TZNAME:AEST
DTSTART:20260404T160000
END:STANDARD
BEGIN:DAYLIGHT
TZOFFSETFROM:+1000
TZOFFSETTO:+1100
TZNAME:AEDT
DTSTART:20261003T160000
END:DAYLIGHT
BEGIN:STANDARD
TZOFFSETFROM:+1100
TZOFFSETTO:+1000
TZNAME:AEST
DTSTART:20270403T160000
END:STANDARD
BEGIN:DAYLIGHT
TZOFFSETFROM:+1000
TZOFFSETTO:+1100
TZNAME:AEDT
DTSTART:20271002T160000
END:DAYLIGHT
END:VTIMEZONE
BEGIN:VEVENT
DTSTART;VALUE=DATE:20260220
DTEND;VALUE=DATE:20260221
DTSTAMP:20260424T034951
CREATED:20260127T025417Z
LAST-MODIFIED:20260127T025417Z
UID:10000209-1771545600-1771631999@farmtable.com.au
SUMMARY:Grow2026
DESCRIPTION:Join the Grow team for a big\, relaxed day of learning and connection at GROW Farming Festival on Friday February 20 at Kyneton Racecourse. We’re bringing farmers\, consumers and other change makers together to drive positive change in agriculture\, food & fibre production and land stewardship.  \nWe hope all is okay at your place. It’s been a big few weeks of fire and floods on the heels of a long dry spell. We know things are tough. We’re approaching GROW 2026 with even greater resolve. Learning new ways to farm\, improve profitability and care for the landscape\, livestock\, ourselves and each other feels more urgent than ever before.  \nWe’re really proud of what we’ve created: a huge program of more than 40 talks\, discussions\, workshops and demonstrations across four learning hubs – animals\, soil\, plants\, people – and the adjoining GROW paddock. PLUS beautiful food & drinks available to purchase all day\, music\, a charity auction and more!  \nGrab your friends and your work team and make a big day of it. \nPay-what-you-can tickets available now from $25\, plus dinner tickets from $20 until sold out. \n\n\n\n\n🌱 Diverse program: 40+ sessions across five activity hubs guided by international and local practitioners\, scientists\, authors\, educators and innovators \n🌾 Hands-on experiences: Get into the paddock for workshops and demonstrations about seeding\, grazing\, fencing\, weed control\, soil science and much more \n🍽 Good food: A carefully curated selection of local food and drinks to purchase across the day\, plus you can pre-order dinner when you buy your GROW ticket \n🌳 Beautiful venue: Kyneton Racecourse includes air-conditioned indoor spaces\, shady outdoor areas\, green lawns\, marquees\, market umbrellas and access to adjacent farmland \n📚 Lots to see and do: Visit the GROW bookroom\, soil lab and exhibitor displays \n🚗 Convenience: Kyneton Racecourse is an hour from Melbourne\, Bendigo & Ballarat and ample parking is available on site. Lots of local accommodation to make a weekend of it! \n🚰 Sustainable\, responsible: GROW is a low-waste event. Crockery and cutlery is reusable or compostable\, our dishwashing service is solar powered and there is a drinking-water station for rehydration \n👩‍🌾🧑‍🌾 Community run: This is a not-for-profit event by farmers for farmers and for anyone interested in caring for the environment
URL:https://farmtable.com.au/event/grow2026/
LOCATION:Kyneton Racecourse\, 44 Campaspe Place\, Kyneton\, VIC\, 3444\, Australia
CATEGORIES:Agricultural Shows
END:VEVENT
END:VCALENDAR