BEGIN:VCALENDAR
VERSION:2.0
PRODID:-//Farm Table - ECPv6.15.17.1//NONSGML v1.0//EN
CALSCALE:GREGORIAN
METHOD:PUBLISH
X-ORIGINAL-URL:https://farmtable.com.au
X-WR-CALDESC:Events for Farm Table
REFRESH-INTERVAL;VALUE=DURATION:PT1H
X-Robots-Tag:noindex
X-PUBLISHED-TTL:PT1H
BEGIN:VTIMEZONE
TZID:Australia/Melbourne
BEGIN:STANDARD
TZOFFSETFROM:+1100
TZOFFSETTO:+1000
TZNAME:AEST
DTSTART:20240406T160000
END:STANDARD
BEGIN:DAYLIGHT
TZOFFSETFROM:+1000
TZOFFSETTO:+1100
TZNAME:AEDT
DTSTART:20241005T160000
END:DAYLIGHT
BEGIN:STANDARD
TZOFFSETFROM:+1100
TZOFFSETTO:+1000
TZNAME:AEST
DTSTART:20250405T160000
END:STANDARD
BEGIN:DAYLIGHT
TZOFFSETFROM:+1000
TZOFFSETTO:+1100
TZNAME:AEDT
DTSTART:20251004T160000
END:DAYLIGHT
BEGIN:STANDARD
TZOFFSETFROM:+1100
TZOFFSETTO:+1000
TZNAME:AEST
DTSTART:20260404T160000
END:STANDARD
BEGIN:DAYLIGHT
TZOFFSETFROM:+1000
TZOFFSETTO:+1100
TZNAME:AEDT
DTSTART:20261003T160000
END:DAYLIGHT
END:VTIMEZONE
BEGIN:VEVENT
DTSTART;VALUE=DATE:20251104
DTEND;VALUE=DATE:20251107
DTSTAMP:20260421T045820
CREATED:20250911T013730Z
LAST-MODIFIED:20250911T014919Z
UID:10000169-1762214400-1762473599@farmtable.com.au
SUMMARY:Asia-Pacific Agri-Food Innovation Summit
DESCRIPTION:Building Agility and Resilience in Asia’s Food System\nThe Asia-Pacific Agri-Food Innovation Summit\, proud anchor event of Singapore International Agri-Food Week\, unites hundreds of international stakeholders across the value chain to build agri-food agility and resilience in Asia-Pacific. \nThe event brings together 1000 senior decision-makers from agribusinesses\, food and ingredients brands\, governments\, funds\, philanthropic organisations – and the most exciting agri-food start-ups from the APAC region and beyond. \nAs the anchor event of Singapore International Agri-Food Week (SIAW)\, the summit will transform Marina Bay Sands into a hub for technology discovery\, strategic deal-making and C-Suite networking. \nA 200-strong speaking faculty will explore the technologies\, policies\, finance models\, and partnerships that are catalysing innovation in farming\, food manufacturing\, and retail across Asia-Pacific. \nSee the Full Agenda here.
URL:https://farmtable.com.au/event/asia-pacific-agri-food-innovation-summit/
LOCATION:Marina Bay Sands\, 10 Bayfront Ave\, Singapore\, 018956\, Singapore
CATEGORIES:Agricultural Conferences
ORGANIZER;CN="Rethink Events Ltd":MAILTO:info@rethinkevents.com
END:VEVENT
BEGIN:VEVENT
DTSTART;TZID=Australia/Melbourne:20251104T080000
DTEND;TZID=Australia/Melbourne:20251106T170000
DTSTAMP:20260421T045820
CREATED:20250830T122458Z
LAST-MODIFIED:20251030T190343Z
UID:10000160-1762243200-1762448400@farmtable.com.au
SUMMARY:Calf Alive 2025 Conference - “Feeding the Future: Data-Driven Decisions for Northern Beef Production"
DESCRIPTION:Calf Alive 2025 is for producers\, advisors\, researchers\, and anyone passionate about improving calf survival\, maternal nutrition\, and the resilience of northern beef systems. \nPractical talks\, producer case studies\, networking opportunities – Calf Alive 2025 is a must-attend event for anyone shaping the future of northern beef. \nProducers\, researchers\, advisors\, and industry leaders will share key insights from the Calf Alive project—an ambitious\, multi-year initiative focused on improving reproductive performance and calf survival in northern Australian beef herds. \nHear from our international guest\, Dr. Allison Meyer (University of Missouri\, Columbia)\, on the impacts of maternal malnutrition on cow and calf outcomes. \nDiscover the latest findings on nutrition\, management\, genetics\, and environmental strategies that enhance productivity and resilience in extensive systems. \nHighlights include the use of over 1\,000 GPS collars to monitor cattle behaviour under environmental stress\, and cutting-edge research using nitrogen isotopes in tail hair (δ¹⁵N) to identify more efficient breeders early in life.
URL:https://farmtable.com.au/event/calf-alive-2025-conference-feeding-the-future-data-driven-decisions-for-northern-beef-production/
LOCATION:Longreach Civic & Cultural Centre\, 96a Eagle Street\, Longreach\, Queensland\, 4730\, Australia
CATEGORIES:Agricultural Conferences
END:VEVENT
BEGIN:VEVENT
DTSTART;TZID=Australia/Melbourne:20251111T090000
DTEND;TZID=Australia/Melbourne:20251113T170000
DTSTAMP:20260421T045820
CREATED:20251007T011231Z
LAST-MODIFIED:20251030T184419Z
UID:10000178-1762851600-1763053200@farmtable.com.au
SUMMARY:TropAg International Agriculture Conference 2025
DESCRIPTION:The TropAg 2025 program will focus on “Addressing Global Challenges” by featuring leading Australian and international voices who are actively engaged in advancing research and raising awareness of the many challenges in the diverse field of agriculture and food production. \nTo be held at Brisbane’s Royal International Convention Centre\, this is the 5th TropAg Conference. It has developed an internationally recognised brand and frequently attracts participants from over 40 countries. It is an opportunity to engage with leading scientific experts\, industry leaders\, researchers\, producers\, and government representatives on topics relevant to subtropical and tropical production systems and innovative food and beverage manufacturing. \nOver three days\, the program will feature six keynote speakers: Prof Glenn Denning\, Dr Carlos Messina\, Dr Anita Molesworth\, Prof Lindiwe Sibanda\, Dr Sean Leighton\, and A/Prof Seeseei Molimau Samasoni. In addition\, there will be 27 symposium sessions with over 100 speakers\, delivered within three themed streams: Future Foods\, Growing Agriculture\, and Climate + Sustainability. \nEarly bird registration available until 1 September 2025. \nFor partnership opportunities and for more information\, visit the TropAg website. \nView the event flyer (PDF). \nView the partnership and exhibition opportunities (PDF).
URL:https://farmtable.com.au/event/tropag-international-agriculture-conference-2025/
LOCATION:Royal International Convention Centre\, 600 Gregory Terrace\, Bowen Hills\, QLD\, 4006\, Australia
CATEGORIES:Agricultural Conferences
GEO:153.0308257;07 3253 3900
X-APPLE-STRUCTURED-LOCATION;VALUE=URI;X-ADDRESS=Royal International Convention Centre 600 Gregory Terrace Bowen Hills QLD 4006 Australia;X-APPLE-RADIUS=500;X-TITLE=600 Gregory Terrace:geo:07 3253 3900,153.0308257
END:VEVENT
BEGIN:VEVENT
DTSTART;TZID=Australia/Melbourne:20251116T080000
DTEND;TZID=Australia/Melbourne:20251116T170000
DTSTAMP:20260421T045820
CREATED:20250830T121128Z
LAST-MODIFIED:20251030T185910Z
UID:10000159-1763280000-1763312400@farmtable.com.au
SUMMARY:12th International Herbage Seed Group Conference
DESCRIPTION:The Tasmanian Seed Industry Group (TSIG) is proud to host the 12th International Herbage Seed Group (IHSG) Conference in Launceston\, bringing together leading researchers\, producers\, and industry professionals from around the globe. \nThis biennial event is a premier forum for sharing research and innovation in forage and turf seed production. Topics span: \n\nEmerging and alternative seed crops (other than lucerne/alfalfa\, ryegrass and white clover).\nSeed production in a challenging and changing environment.\nSustainable seed production.\nAgronomic advances\, innovation and technology.\n\n  \nThis biennial conference shares the latest research developments in pasture (herbage) seed research\, and is a great chance to meet local and international growers\, seed production researchers\, agronomists and seed company representatives. \nFollowing the conference\, delegates are invited to attend a post-conference tour from 20-22 November 2025\, to visit key seed production areas in Southern Mainland Australia.
URL:https://farmtable.com.au/event/12th-international-herbage-seed-group-conference/2025-11-16/
LOCATION:Launceston\, Tasmania\, Australia
CATEGORIES:Agricultural Conferences
END:VEVENT
BEGIN:VEVENT
DTSTART;TZID=Australia/Melbourne:20251117T090000
DTEND;TZID=Australia/Melbourne:20251120T150000
DTSTAMP:20260421T045820
CREATED:20251007T004054Z
LAST-MODIFIED:20251030T185809Z
UID:10000174-1763370000-1763650800@farmtable.com.au
SUMMARY:Insight to Impact: Science for tomorrow's food industry challenges
DESCRIPTION:The Food Structure\, Digestion & Health International Conference 2025 will be held at the CSIRO Food Innovation Centre\, Werribee\, from 17–20 November 2025. \nThe 2025 conference will spotlight the latest advances in food structure design\, digestive behaviour\, the gut microbiome\, and emerging innovations such as AI-driven food design and sustainable nutrition policy. \nThe conference will also emphasise excellent science and highlight the industry relevance for food development and innovation. The presenters are encouraged to submit abstracts that showcase how their science can be applied in the food industry. There will be a lively debate on the balance of processed food and whole food nutrition and AI innovation round table discussions with industry. \nThe Food Structure\, Digestion & Health International Conference brings together professionals from the food industry and world-leading scientists – from disciplines including food science\, nutrition\, digestive behaviour\, sensory science and food engineering. This event promotes a cross-disciplinary approach to food design that improves nutrition\, functionality\, and consumer health outcomes.
URL:https://farmtable.com.au/event/insight-to-impact-science-for-tomorrows-food-industry-challenges/
LOCATION:CSIRO Werribee\, 671 Sneydes Road\, Werribeee\, VIC\, 3030\, Australia
CATEGORIES:Agricultural Conferences
END:VEVENT
BEGIN:VEVENT
DTSTART;TZID=Australia/Melbourne:20251119T183000
DTEND;TZID=Australia/Melbourne:20251119T210000
DTSTAMP:20260421T045820
CREATED:20250908T084705Z
LAST-MODIFIED:20251030T185802Z
UID:10000163-1763577000-1763586000@farmtable.com.au
SUMMARY:Livestock SA Industry Dinner
DESCRIPTION:The Annual Livestock Industry Dinner at the Adelaide Convention Centre is a key event for red meat and wool producers\, along with industry stakeholders. It’s a chance to reflect on the past year\, discuss the challenges and opportunities ahead\, and connect with others who share a passion for South Australia’s livestock industries. Enjoy a two-course meal\, local wines and hear from guest speakers as we celebrate the strength and resilience of the sector. \nAttendance is free for livestock producers thanks to event sponsorship\, but spaces are limited. \nThe dinner is part of a two-day program delivered in collaboration with Meat & Livestock Australia and the University of Adelaide\, bringing insights\, connection and innovation to South Australian producers.
URL:https://farmtable.com.au/event/livestock-sa-industry-dinner/
LOCATION:Adelaide Convention Centre\, North Terrace\, Adelaide\, Sa\, 5000\, Australia
CATEGORIES:Agricultural Conferences
END:VEVENT
BEGIN:VEVENT
DTSTART;TZID=Australia/Melbourne:20251124T180000
DTEND;TZID=Australia/Melbourne:20251128T150000
DTSTAMP:20260421T045820
CREATED:20251007T014942Z
LAST-MODIFIED:20251007T014942Z
UID:10000180-1764007200-1764342000@farmtable.com.au
SUMMARY:Biometrics in the Bush Capital
DESCRIPTION:The Australasian Region Biometrics conference is a biannual conference sponsored by the International Biometric Society (Australasian Region). \nThe conference is a forum for biometricians\, statisticians\, and those interested in the development and application of statistical and mathematical theory and methods to problems in the biosciences. Open to members and non-members of the society\, this conference will enable biometricians to discover new trends\, promote discussions for improved analytical practices\, and inspire innovation through the cross-pollination of ideas across diverse bioscience fields. \nAttendees will gain from networking opportunities\, fostering partnerships that could lead to innovative solutions and advanced analytical techniques applicable to the grains sector. There are opportunities to upskill\, including in complex modelling and analysis of data by leading experts. \nFurther details about the pre-conference workshops and conference can be found at https://biometricsociety.org.au/conference2025/.
URL:https://farmtable.com.au/event/biometrics-in-the-bush-capital/
LOCATION:National Film and Sound Archive of Australia\, McCoy Cct\, Canberra\, Canberra\, 2601\, Australia
CATEGORIES:Agricultural Conferences
END:VEVENT
BEGIN:VEVENT
DTSTART;TZID=Australia/Melbourne:20251126T090000
DTEND;TZID=Australia/Melbourne:20251127T170000
DTSTAMP:20260421T045820
CREATED:20250908T085059Z
LAST-MODIFIED:20250908T085059Z
UID:10000164-1764147600-1764262800@farmtable.com.au
SUMMARY:LIVEXchange 2025
DESCRIPTION:Australia’s premier livestock export conference will be held on 26-27 November 2025 at Optus Stadium\, Perth. LIVEXchange is a joint venture between the Australian Livestock Export Corporation (LiveCorp) and the Australian Livestock Exporters’ Council (ALEC). The host chapter for 2025 is the WA Livestock Exporters’ Association (WALEA). \nAround 400 delegates are expected from across cattle\, sheep and goat supply chains\, including livestock exporters\, farmers\, suppliers and service providers from all over Australia as well as importers and other international delegates. \nThe conference includes two days of informative\, thought-provoking and inspiring speakers along with trade stands and several social events to provide plenty of networking opportunities.
URL:https://farmtable.com.au/event/livexchange-2025/
LOCATION:OPTUS STADIUM\, Perth\, WA\, 6000\, Australia
CATEGORIES:Agricultural Conferences
END:VEVENT
END:VCALENDAR