BEGIN:VCALENDAR
VERSION:2.0
PRODID:-//Farm Table - ECPv6.15.17.1//NONSGML v1.0//EN
CALSCALE:GREGORIAN
METHOD:PUBLISH
X-ORIGINAL-URL:https://farmtable.com.au
X-WR-CALDESC:Events for Farm Table
REFRESH-INTERVAL;VALUE=DURATION:PT1H
X-Robots-Tag:noindex
X-PUBLISHED-TTL:PT1H
BEGIN:VTIMEZONE
TZID:Australia/Melbourne
BEGIN:STANDARD
TZOFFSETFROM:+1100
TZOFFSETTO:+1000
TZNAME:AEST
DTSTART:20240406T160000
END:STANDARD
BEGIN:DAYLIGHT
TZOFFSETFROM:+1000
TZOFFSETTO:+1100
TZNAME:AEDT
DTSTART:20241005T160000
END:DAYLIGHT
BEGIN:STANDARD
TZOFFSETFROM:+1100
TZOFFSETTO:+1000
TZNAME:AEST
DTSTART:20250405T160000
END:STANDARD
BEGIN:DAYLIGHT
TZOFFSETFROM:+1000
TZOFFSETTO:+1100
TZNAME:AEDT
DTSTART:20251004T160000
END:DAYLIGHT
BEGIN:STANDARD
TZOFFSETFROM:+1100
TZOFFSETTO:+1000
TZNAME:AEST
DTSTART:20260404T160000
END:STANDARD
BEGIN:DAYLIGHT
TZOFFSETFROM:+1000
TZOFFSETTO:+1100
TZNAME:AEDT
DTSTART:20261003T160000
END:DAYLIGHT
END:VTIMEZONE
BEGIN:VEVENT
DTSTART;VALUE=DATE:20250708
DTEND;VALUE=DATE:20250711
DTSTAMP:20260421T125223
CREATED:20250402T063854Z
LAST-MODIFIED:20250402T063854Z
UID:10000063-1751932800-1752191999@farmtable.com.au
SUMMARY:Australian Grassland Association: Seeds of Change
DESCRIPTION:The Australian Grassland Association Inc. is hosting its annual event\, “Seeds of Change\,” participants will explore the latest advancements and challenges in pasture seed production\, breeding\, cultivar development\, and pasture agronomy. \nThis three-day event will feature insightful sessions\, field tours\, and networking opportunities with industry experts and fellow enthusiasts. \nThe aim of the Australian Grassland Association (AGA) is to facilitate the ongoing improvement and development of the pasture industry. In order to efficiently and effectively target and use research capability there needs to be regular\, structured\, wide reaching reviews of the pasture industry. Such reviews need to consider past priorities and activities\, the current status of research\, the successes and failures and where we need to go next. \nThis review process takes the format of a symposium at which the scientific community\, leading producers and industry stakeholders come together in order to contribute directly in the development of industry wide investment priorities and the research agenda. \nTo date they have had 5 highly successful symposiums; \n\nThe Australian Legume Symposium (2012)\nPerennial Grasses in Pasture Production Systems ( 2014)\nLivestock Productivity from Pasture (2017)\nSoil Constraints on Pasture Productivity (2019)\nResilience in the face of change – Pasture for the future (2021)
URL:https://farmtable.com.au/event/australian-grassland-association-seeds-of-change/
LOCATION:Adelaide Hills Convention Centre\, 145A Mount Barker Rd\, Hahndorf\, South Australia\, 5245\, Australia
CATEGORIES:Agricultural Conferences
END:VEVENT
BEGIN:VEVENT
DTSTART;VALUE=DATE:20250708
DTEND;VALUE=DATE:20250712
DTSTAMP:20260421T125223
CREATED:20250402T064448Z
LAST-MODIFIED:20250402T064448Z
UID:10000065-1751932800-1752278399@farmtable.com.au
SUMMARY:Aquatic Animal Health & Biosecurity Conference
DESCRIPTION:The Seventh Fisheries Research and Development Corporation (FRDC) Australasian Scientific Conference on Aquatic Animal Health and Biosecurity will be held at the Pullman Reef Hotel\, Cairns\, starting at 9:00am on Tuesday 8 July and closing at midday on Friday 11 July 2025. The conference dinner will be held on Thursday 10 July 2025. \nSponsored by the FRDC\, delivered through the Aquatic Animal Health and Biosecurity Coordination Program (AAHBCP)\, and organised by CSIRO\, the conference is the premier event for the aquatic animal health community in Australia\, bringing together researchers\, industry\, government\, and students. Emerging researchers in the field are encouraged to present their work\, with a prize for the best PhD student presentation. The side conversations that occur at this event are also an invaluable opportunity to foster collaboration. \nThis year the theme of the conference is “Technology for Improved Production and Health”. The proposed conference program will depend on the range of topics received as abstracts and all topics relating to aquatic animal health and biosecurity are welcome.
URL:https://farmtable.com.au/event/aquatic-animal-health-biosecurity-conference/
LOCATION:PullmanReef Hotel Casino\, 35-41 Wharf Street\, Cairns\, QLD\, 4870\, Australia
CATEGORIES:Agricultural Conferences
END:VEVENT
END:VCALENDAR