BEGIN:VCALENDAR
VERSION:2.0
PRODID:-//Farm Table - ECPv6.15.17.1//NONSGML v1.0//EN
CALSCALE:GREGORIAN
METHOD:PUBLISH
X-ORIGINAL-URL:https://farmtable.com.au
X-WR-CALDESC:Events for Farm Table
REFRESH-INTERVAL;VALUE=DURATION:PT1H
X-Robots-Tag:noindex
X-PUBLISHED-TTL:PT1H
BEGIN:VTIMEZONE
TZID:Australia/Melbourne
BEGIN:STANDARD
TZOFFSETFROM:+1100
TZOFFSETTO:+1000
TZNAME:AEST
DTSTART:20240406T160000
END:STANDARD
BEGIN:DAYLIGHT
TZOFFSETFROM:+1000
TZOFFSETTO:+1100
TZNAME:AEDT
DTSTART:20241005T160000
END:DAYLIGHT
BEGIN:STANDARD
TZOFFSETFROM:+1100
TZOFFSETTO:+1000
TZNAME:AEST
DTSTART:20250405T160000
END:STANDARD
BEGIN:DAYLIGHT
TZOFFSETFROM:+1000
TZOFFSETTO:+1100
TZNAME:AEDT
DTSTART:20251004T160000
END:DAYLIGHT
BEGIN:STANDARD
TZOFFSETFROM:+1100
TZOFFSETTO:+1000
TZNAME:AEST
DTSTART:20260404T160000
END:STANDARD
BEGIN:DAYLIGHT
TZOFFSETFROM:+1000
TZOFFSETTO:+1100
TZNAME:AEDT
DTSTART:20261003T160000
END:DAYLIGHT
END:VTIMEZONE
BEGIN:VEVENT
DTSTART;VALUE=DATE:20250923
DTEND;VALUE=DATE:20250926
DTSTAMP:20260421T094124
CREATED:20250402T084657Z
LAST-MODIFIED:20250402T084657Z
UID:10000082-1758585600-1758844799@farmtable.com.au
SUMMARY:AgXchange Australia
DESCRIPTION:AgXchange Australia is the pre-eminent event for Australia’s agricultural industry\, uniting stakeholders from every corner of the supply chain. From farm leaders and agribusiness professionals to policymakers and global experts\, this flagship event offers a unique opportunity to collaborate\, gain insights\, and drive the future of agriculture. \nThe National Farmers’ Federation’s (NFF) flagship conference is back with a fresh new look and an exciting new location! This year\, we’re heading to the Gold Coast for AgXchange Australia\, where agriculture’s brightest minds and industry leaders will come together to share insights\, spark innovation\, and shape the future of Australian farming.
URL:https://farmtable.com.au/event/agxchange-australia/
LOCATION:Gold Coast Convention Centre\, 2684-2690 Gold Coast Hwy\, Broadbeach\, QLD\, 4218\, Australia
CATEGORIES:Agricultural Conferences
ORGANIZER;CN="National Farmers Federation":MAILTO:rwilde@nff.org.au
END:VEVENT
BEGIN:VEVENT
DTSTART;TZID=Australia/Melbourne:20250923T080000
DTEND;TZID=Australia/Melbourne:20250923T170000
DTSTAMP:20260421T094124
CREATED:20250707T112424Z
LAST-MODIFIED:20251030T190450Z
UID:10000113-1758614400-1758646800@farmtable.com.au
SUMMARY:Australian Agricultural Sustainability Exchange
DESCRIPTION:The 2025 Australian Agricultural Sustainability Exchange is set for 23 September at the stunning Gold Coast Convention and Exhibition Centre\, offering a unique opportunity to connect\, collaborate and contribute. \nHeld in partnership with the National Farmers Federation AgXchange Australia (24 – 25 September)\, the Australian Agricultural Sustainability Exchange will open the week with industry\, government\, researchers and supply chain leaders sharing insights\, ideas and innovations shaping the future of sustainability in agriculture. Designed to drive national collaboration and showcase leading sustainability initiatives across the sector\, the Exchange offers a unique platform for stakeholders to connect\, share\, and shape the future of sustainable food and fibre production. \nAs sustainability moves from ambition to action across Australian agriculture\, the Exchange will provide a platform to explore how the industry can operationalise sustainability through indicators\, data governance\, materiality insights and collaborative systems. Through panels\, interactive sessions and networking\, attendees will engage with leading-edge work on market access\, ESG reporting\, nature-positive agriculture and the frameworks needed to build trust\, alignment and resilience across the value chain. The highly popular Sustainability Showcase will also be a highlight of the day. \n\n\nThis is an opportunity to be part of the national conversation driving Australia’s global sustainability leadership in food and fibre production. Tickets are available through the AgXchange website or directly through the booking platform.
URL:https://farmtable.com.au/event/australian-agricultural-sustainability-exchange/
LOCATION:Gold Coast Convention and Exhibition Centre\, Broadbeach\, Queensland\, 4218\, Australia
CATEGORIES:Agricultural Conferences
END:VEVENT
END:VCALENDAR