BEGIN:VCALENDAR
VERSION:2.0
PRODID:-//Farm Table - ECPv6.15.17.1//NONSGML v1.0//EN
CALSCALE:GREGORIAN
METHOD:PUBLISH
X-ORIGINAL-URL:https://farmtable.com.au
X-WR-CALDESC:Events for Farm Table
REFRESH-INTERVAL;VALUE=DURATION:PT1H
X-Robots-Tag:noindex
X-PUBLISHED-TTL:PT1H
BEGIN:VTIMEZONE
TZID:Australia/Melbourne
BEGIN:STANDARD
TZOFFSETFROM:+1100
TZOFFSETTO:+1000
TZNAME:AEST
DTSTART:20250405T160000
END:STANDARD
BEGIN:DAYLIGHT
TZOFFSETFROM:+1000
TZOFFSETTO:+1100
TZNAME:AEDT
DTSTART:20251004T160000
END:DAYLIGHT
BEGIN:STANDARD
TZOFFSETFROM:+1100
TZOFFSETTO:+1000
TZNAME:AEST
DTSTART:20260404T160000
END:STANDARD
BEGIN:DAYLIGHT
TZOFFSETFROM:+1000
TZOFFSETTO:+1100
TZNAME:AEDT
DTSTART:20261003T160000
END:DAYLIGHT
BEGIN:STANDARD
TZOFFSETFROM:+1100
TZOFFSETTO:+1000
TZNAME:AEST
DTSTART:20270403T160000
END:STANDARD
BEGIN:DAYLIGHT
TZOFFSETFROM:+1000
TZOFFSETTO:+1100
TZNAME:AEDT
DTSTART:20271002T160000
END:DAYLIGHT
END:VTIMEZONE
BEGIN:VEVENT
DTSTART;VALUE=DATE:20260209
DTEND;VALUE=DATE:20260214
DTSTAMP:20260421T020303
CREATED:20260127T025951Z
LAST-MODIFIED:20260127T025951Z
UID:10000211-1770595200-1771027199@farmtable.com.au
SUMMARY:70th Annual Conference of the Australasian Agricultural & Resource Economics Society
DESCRIPTION:The Australasian Agricultural & Resource Economics Society (AARES) is the pre-eminent organisation promoting applied economics research and policy engagement in agricultural and resources industries including\, agribusiness\, food systems\, and the environment. AARES has more than 450 members\, and branches across Australia\, in New Zealand\, East Asia and North America. Its journal\, the Australian Journal of Agricultural and Resource Economics (AJARE) publishes original\, high-quality\, and interdisciplinary research and policy analysis pertaining to agriculture\, the environment\, and natural resources. \nThe annual conference is the flagship event of AARES society. The conference is an opportunity for researchers\, industry\, and policy makers to connect and contribute to future developments in this disciplinary area. Building on the excellent track record of past AARES Annual Conferences\, we anticipate attracting over 400 delegates to the AARES 2026 Conference. \nThe conference aims to: \n\ncontribute to the debate and development of ideas and expertise to address the conference theme;\ncreate an environment in which economists and industry stakeholders can share knowledge and test ideas;\nprovide training and mentoring\, particularly for early career researchers and professionals; and\nsupport networking and collaboration both across and within industry\, policy\, and academic cohorts of the applied economics profession.
URL:https://farmtable.com.au/event/70th-annual-conference-of-the-australasian-agricultural-resource-economics-society/
LOCATION:Adelaide Convention Centre\, North Terrace\, Adelaide\, Sa\, 5000\, Australia
CATEGORIES:Agricultural Conferences
END:VEVENT
BEGIN:VEVENT
DTSTART;VALUE=DATE:20260211
DTEND;VALUE=DATE:20260214
DTSTAMP:20260421T020303
CREATED:20260205T022152Z
LAST-MODIFIED:20260205T022221Z
UID:10000228-1770768000-1771027199@farmtable.com.au
SUMMARY:Australian Dairy Conference
DESCRIPTION:ADC is an event for farmers\, by farmers. \nADC 2026 is scheduled for 11-13 February 2026 in Melbourne at the Melbourne Convention and Exhibition Centre. \nCreated by a group of pioneering farmers as a forum to push boundaries and dairy thinking\, ADC has evolved into Australia’s premier dairy event. \nHeld every February\, ADC has established itself as the leading national dairy forum in Australia looking at the industry holistically and focusing on the bigger picture issues. \nStrong global links and collaboration ensures delivery of a thought-provoking and challenging program designed to explore new frontiers and motivate Australian dairy farmers to think beyond the farm-gate. \nADC is a volunteer driven not-for-profit organisation\, governed by a farmer-led Board with several skill-based Directors each of whom is dedicated to using ADC to break through traditional state and industry sector boundaries. \nUnique in its approach\, the ADC Board appoints a new farmer-based Programming Committee for each Conference\, ensuring a new injection of ideas and people to create and set the agenda for discussion. \nADC takes its national agenda and hosts the event in regions and cities around Australia.
URL:https://farmtable.com.au/event/australian-dairy-conference/
LOCATION:Melbourne Convention and Exhibition Centre (MCEC)\, 1 Convention Centre Pl\, South Wharf\, VIC\, 3006\, Australia
CATEGORIES:Agricultural Conferences
END:VEVENT
BEGIN:VEVENT
DTSTART;TZID=Australia/Melbourne:20260211T173000
DTEND;TZID=Australia/Melbourne:20260211T200000
DTSTAMP:20260421T020303
CREATED:20260127T215255Z
LAST-MODIFIED:20260127T215255Z
UID:10000215-1770831000-1770840000@farmtable.com.au
SUMMARY:Victorian Agritech Meetup - evokeAG Preparation
DESCRIPTION:In the lead-up to evokeAG and the Climate Investor Forum \nJoin us for a focused evening bringing Melbourne’s agritech community together ahead of a major week for the sector. \nWith evokeAG and the Climate Investor Forum both taking place in Melbourne\, this meetup is about getting clear before things get busy – sharpening how you talk about your work\, clarifying what you want to achieve\, and making more purposeful connections. \nEvent Schedule:\n5:30 PM – Arrival & Networking\n5:55 PM – Welcome with Australian Agritech Association\n6:00 PM – Rapid Insights\n6:10 PM – Interactive Activity\n6:30 PM – Networking\n8:00 PM – Close
URL:https://farmtable.com.au/event/victoria-agritech-meetup-evokeag-preparation/
LOCATION:The Commons QV\, 3 Albert Coates Lane\, Melbourne\, Victoria\, 3000\, Australia
CATEGORIES:Agricultural Conferences
ORGANIZER;CN="AusAgritech":MAILTO:https://ausagritech.org/
END:VEVENT
END:VCALENDAR