BEGIN:VCALENDAR
VERSION:2.0
PRODID:-//Farm Table - ECPv6.15.17.1//NONSGML v1.0//EN
CALSCALE:GREGORIAN
METHOD:PUBLISH
X-ORIGINAL-URL:https://farmtable.com.au
X-WR-CALDESC:Events for Farm Table
REFRESH-INTERVAL;VALUE=DURATION:PT1H
X-Robots-Tag:noindex
X-PUBLISHED-TTL:PT1H
BEGIN:VTIMEZONE
TZID:Australia/Melbourne
BEGIN:STANDARD
TZOFFSETFROM:+1100
TZOFFSETTO:+1000
TZNAME:AEST
DTSTART:20250405T160000
END:STANDARD
BEGIN:DAYLIGHT
TZOFFSETFROM:+1000
TZOFFSETTO:+1100
TZNAME:AEDT
DTSTART:20251004T160000
END:DAYLIGHT
BEGIN:STANDARD
TZOFFSETFROM:+1100
TZOFFSETTO:+1000
TZNAME:AEST
DTSTART:20260404T160000
END:STANDARD
BEGIN:DAYLIGHT
TZOFFSETFROM:+1000
TZOFFSETTO:+1100
TZNAME:AEDT
DTSTART:20261003T160000
END:DAYLIGHT
BEGIN:STANDARD
TZOFFSETFROM:+1100
TZOFFSETTO:+1000
TZNAME:AEST
DTSTART:20270403T160000
END:STANDARD
BEGIN:DAYLIGHT
TZOFFSETFROM:+1000
TZOFFSETTO:+1100
TZNAME:AEDT
DTSTART:20271002T160000
END:DAYLIGHT
END:VTIMEZONE
BEGIN:VEVENT
DTSTART;VALUE=DATE:20260222
DTEND;VALUE=DATE:20260224
DTSTAMP:20260421T020302
CREATED:20260127T024811Z
LAST-MODIFIED:20260127T024811Z
UID:10000208-1771718400-1771891199@farmtable.com.au
SUMMARY:VFF Grains Conference
DESCRIPTION:With the theme Farming Smarter for the Future\, this year’s conference brings together an impressive roster of speakers you simply can’t miss. They’ll dive into some of the most relevant and forward-looking topics in agriculture\, including gene editing and plant breeding to develop better varieties\, the power of AI to drive smarter farming\, and essential market updates covering inputs and supply chains. Each session is designed to help growers and graziers achieve better outcomes\, offering insights that will elevate how you operate and deepen your understanding of an ever-evolving world. \nBuilding on the success of previous grain conferences\, the networking dinner promises to be a standout highlight. \nThis year’s event is shaping up to be one of the strongest yet for the grains sector. Don’t miss out! \nSunday 22 February 2026: Welcome Function \n\nLocation: Cumberoona Paddle Steamer\nTime: 5:30PM – 7PM\n\nMonday 23 February 2026: Conference + Networking Dinner \n\nLocation: The Sebel Yarrawonga\nTime: 8:30AM Registration for a 9AM start. 5PM conference close. Dinner starts at 6:30PM.\n\nDress: Smart Casual
URL:https://farmtable.com.au/event/vff-grains-conference/
LOCATION:The Sebel Yarrawonga\, 40 Silverwoods Blvd\, Yarrawonga\, Victoria\, 3730
CATEGORIES:Agricultural Conferences
END:VEVENT
END:VCALENDAR