BEGIN:VCALENDAR
VERSION:2.0
PRODID:-//Farm Table - ECPv6.15.17.1//NONSGML v1.0//EN
CALSCALE:GREGORIAN
METHOD:PUBLISH
X-WR-CALNAME:Farm Table
X-ORIGINAL-URL:https://farmtable.com.au
X-WR-CALDESC:Events for Farm Table
REFRESH-INTERVAL;VALUE=DURATION:PT1H
X-Robots-Tag:noindex
X-PUBLISHED-TTL:PT1H
BEGIN:VTIMEZONE
TZID:Australia/Melbourne
BEGIN:STANDARD
TZOFFSETFROM:+1100
TZOFFSETTO:+1000
TZNAME:AEST
DTSTART:20250405T160000
END:STANDARD
BEGIN:DAYLIGHT
TZOFFSETFROM:+1000
TZOFFSETTO:+1100
TZNAME:AEDT
DTSTART:20251004T160000
END:DAYLIGHT
BEGIN:STANDARD
TZOFFSETFROM:+1100
TZOFFSETTO:+1000
TZNAME:AEST
DTSTART:20260404T160000
END:STANDARD
BEGIN:DAYLIGHT
TZOFFSETFROM:+1000
TZOFFSETTO:+1100
TZNAME:AEDT
DTSTART:20261003T160000
END:DAYLIGHT
BEGIN:STANDARD
TZOFFSETFROM:+1100
TZOFFSETTO:+1000
TZNAME:AEST
DTSTART:20270403T160000
END:STANDARD
BEGIN:DAYLIGHT
TZOFFSETFROM:+1000
TZOFFSETTO:+1100
TZNAME:AEDT
DTSTART:20271002T160000
END:DAYLIGHT
END:VTIMEZONE
BEGIN:VEVENT
DTSTART;VALUE=DATE:20260303
DTEND;VALUE=DATE:20260305
DTSTAMP:20260421T003807
CREATED:20260204T221519Z
LAST-MODIFIED:20260204T221519Z
UID:10000223-1772496000-1772668799@farmtable.com.au
SUMMARY:ABARES Conference 2026
DESCRIPTION:ABARES OUTLOOK 2026 \nReset. Rethink. Regrow. \nThe ABARES Outlook 2026 conference will deliver up-to-date commodity data\, forecasts and analysis to industry\, government and other stakeholders across agriculture\, fisheries and forestry. \nWith the theme Reset. Rethink. Regrow: Cultivating tomorrow’s opportunities\, the conference will explore growth opportunities in productivity\, food security\, land and sea use\, trade\, agri-competition policy\, climate and sustainability\, and data\, technology and innovation. \nABARES Outlook 2026 will provide delegates with a platform to engage through thought-provoking discussions and the opportunity to contribute to building a sustainable and competitive agricultural sector all while expanding your professional network. \nABARES Outlook 2026 will be held over two days with two ways to participate – both experiences feature a dynamic program with influential speakers and panellists from industry and government. A mix of sessions will keep delegates engaged including keynote presentations\, fireside chats\, panels\, and a debate on day two.
URL:https://farmtable.com.au/event/abares-conference-2026/
LOCATION:Hotel Realm\, 18 National Circuit\, Barton\, ACT\, 2600\, Australia
CATEGORIES:Agricultural Conferences
ORGANIZER;CN="ABARES Events Team":MAILTO:conferences@agriculture.gov.au
GEO:149.1329247;02 6163 1800
X-APPLE-STRUCTURED-LOCATION;VALUE=URI;X-ADDRESS=Hotel Realm 18 National Circuit Barton ACT 2600 Australia;X-APPLE-RADIUS=500;X-TITLE=18 National Circuit:geo:02 6163 1800,149.1329247
END:VEVENT
END:VCALENDAR