BEGIN:VCALENDAR
VERSION:2.0
PRODID:-//Farm Table - ECPv6.15.17.1//NONSGML v1.0//EN
CALSCALE:GREGORIAN
METHOD:PUBLISH
X-ORIGINAL-URL:https://farmtable.com.au
X-WR-CALDESC:Events for Farm Table
REFRESH-INTERVAL;VALUE=DURATION:PT1H
X-Robots-Tag:noindex
X-PUBLISHED-TTL:PT1H
BEGIN:VTIMEZONE
TZID:Australia/Melbourne
BEGIN:STANDARD
TZOFFSETFROM:+1100
TZOFFSETTO:+1000
TZNAME:AEST
DTSTART:20250405T160000
END:STANDARD
BEGIN:DAYLIGHT
TZOFFSETFROM:+1000
TZOFFSETTO:+1100
TZNAME:AEDT
DTSTART:20251004T160000
END:DAYLIGHT
BEGIN:STANDARD
TZOFFSETFROM:+1100
TZOFFSETTO:+1000
TZNAME:AEST
DTSTART:20260404T160000
END:STANDARD
BEGIN:DAYLIGHT
TZOFFSETFROM:+1000
TZOFFSETTO:+1100
TZNAME:AEDT
DTSTART:20261003T160000
END:DAYLIGHT
BEGIN:STANDARD
TZOFFSETFROM:+1100
TZOFFSETTO:+1000
TZNAME:AEST
DTSTART:20270403T160000
END:STANDARD
BEGIN:DAYLIGHT
TZOFFSETFROM:+1000
TZOFFSETTO:+1100
TZNAME:AEDT
DTSTART:20271002T160000
END:DAYLIGHT
END:VTIMEZONE
BEGIN:VEVENT
DTSTART;TZID=Australia/Melbourne:20260421T090000
DTEND;TZID=Australia/Melbourne:20260424T180000
DTSTAMP:20260420T231833
CREATED:20260311T051646Z
LAST-MODIFIED:20260311T051646Z
UID:10000249-1776762000-1777053600@farmtable.com.au
SUMMARY:Australian Society of Sugar Cane Technologists Annual Conference 2026 (ASSCT Conference)
DESCRIPTION:The Australian Society of Sugar Cane Technologists Annual Conference is set to take place at the Mackay Entertainment & Convention Centre (MECC) in Mackay\, Australia. This event\, organised by the Australian Society of Sugar Cane Technologists\, aims to gather a diverse audience from various regions including Australia\, Ghana\, and Pakistan. Mackay\, renowned for its rich sugar heritage and vibrant research and production community\, provides an ideal backdrop for this significant gathering in the sugarcane industry. \nThe conference promises a comprehensive program that will include technical presentations\, industry updates\, and ample networking opportunities. It is designed to benefit a wide array of participants such as researchers\, millers\, growers\, and suppliers. By fostering innovation\, collaboration\, and excellence across all sectors of the industry\, the conference seeks to advance the field of sugarcane science and technology\, making it a must-attend event for professionals interested in the latest developments and trends.
URL:https://farmtable.com.au/event/australian-society-of-sugar-cane-technologists-annual-conference-2026-assct-conference/
LOCATION:Mackay Entertainment & Convention Centre (MECC)\, Alfred St\, Mackay\, QLD\, 4740\, Australia
CATEGORIES:Agricultural Conferences
END:VEVENT
END:VCALENDAR