BEGIN:VCALENDAR
VERSION:2.0
PRODID:-//Farm Table - ECPv6.15.17.1//NONSGML v1.0//EN
CALSCALE:GREGORIAN
METHOD:PUBLISH
X-ORIGINAL-URL:https://farmtable.com.au
X-WR-CALDESC:Events for Farm Table
REFRESH-INTERVAL;VALUE=DURATION:PT1H
X-Robots-Tag:noindex
X-PUBLISHED-TTL:PT1H
BEGIN:VTIMEZONE
TZID:Australia/Melbourne
BEGIN:STANDARD
TZOFFSETFROM:+1100
TZOFFSETTO:+1000
TZNAME:AEST
DTSTART:20250405T160000
END:STANDARD
BEGIN:DAYLIGHT
TZOFFSETFROM:+1000
TZOFFSETTO:+1100
TZNAME:AEDT
DTSTART:20251004T160000
END:DAYLIGHT
BEGIN:STANDARD
TZOFFSETFROM:+1100
TZOFFSETTO:+1000
TZNAME:AEST
DTSTART:20260404T160000
END:STANDARD
BEGIN:DAYLIGHT
TZOFFSETFROM:+1000
TZOFFSETTO:+1100
TZNAME:AEDT
DTSTART:20261003T160000
END:DAYLIGHT
BEGIN:STANDARD
TZOFFSETFROM:+1100
TZOFFSETTO:+1000
TZNAME:AEST
DTSTART:20270403T160000
END:STANDARD
BEGIN:DAYLIGHT
TZOFFSETFROM:+1000
TZOFFSETTO:+1100
TZNAME:AEDT
DTSTART:20271002T160000
END:DAYLIGHT
END:VTIMEZONE
BEGIN:VEVENT
DTSTART;TZID=Australia/Melbourne:20260211T193000
DTEND;TZID=Australia/Melbourne:20260211T203000
DTSTAMP:20260421T032226
CREATED:20260128T021417Z
LAST-MODIFIED:20260128T021417Z
UID:10000216-1770838200-1770841800@farmtable.com.au
SUMMARY:SA Varroa update and information webinar
DESCRIPTION:Get the latest update on Varroa mite and information around South Australia’s recent detection during our live\, free webinar with Varroa Development Officers Q&A. \nWebinar access: \nJoin the meeting now \nMeeting ID: 434 459 638 770 77\nPasscode: eo9mk7UG \n\nJoin us for an exclusive online event where we will be discussing the latest updates on Varroa and information around South Australia’s recent detection. This live webinar is designed specifically for the South Australian beekeeping community. \nThis webinar is free to attend and is presented by PIRSA Varroa Development Officers (VDO’s). \nPlease register for this webinar through eventbrite. \nWe’ll cover: \n\nThe basics and quick review of Varroa mite biology and behaviour\nDiscuss the impacts to the European Honeybee Apis mellifera\nWe’ll share valuable information on how to protect your beehives and tips around IPM (Integrated Pest Management)\, not necessarily Varroa specific\n\nThe webinar will feature live video presentations and a Q&A session where you can ask our experts any burning questions you may have. This is a fantastic opportunity to stay informed and connected with the beekeeping community of South Australia.
URL:https://farmtable.com.au/event/sa-varroa-update-and-information-webinar/
CATEGORIES:Ag Workshops
ORGANIZER;CN="Department of Primary Industries and Regional Development":MAILTO:enquiries@dpird.wa.gov.au
END:VEVENT
END:VCALENDAR