BEGIN:VCALENDAR
VERSION:2.0
PRODID:-//Farm Table - ECPv6.15.20//NONSGML v1.0//EN
CALSCALE:GREGORIAN
METHOD:PUBLISH
X-WR-CALNAME:Farm Table
X-ORIGINAL-URL:https://farmtable.com.au
X-WR-CALDESC:Events for Farm Table
REFRESH-INTERVAL;VALUE=DURATION:PT1H
X-Robots-Tag:noindex
X-PUBLISHED-TTL:PT1H
BEGIN:VTIMEZONE
TZID:Australia/Melbourne
BEGIN:STANDARD
TZOFFSETFROM:+1100
TZOFFSETTO:+1000
TZNAME:AEST
DTSTART:20250405T160000
END:STANDARD
BEGIN:DAYLIGHT
TZOFFSETFROM:+1000
TZOFFSETTO:+1100
TZNAME:AEDT
DTSTART:20251004T160000
END:DAYLIGHT
BEGIN:STANDARD
TZOFFSETFROM:+1100
TZOFFSETTO:+1000
TZNAME:AEST
DTSTART:20260404T160000
END:STANDARD
BEGIN:DAYLIGHT
TZOFFSETFROM:+1000
TZOFFSETTO:+1100
TZNAME:AEDT
DTSTART:20261003T160000
END:DAYLIGHT
BEGIN:STANDARD
TZOFFSETFROM:+1100
TZOFFSETTO:+1000
TZNAME:AEST
DTSTART:20270403T160000
END:STANDARD
BEGIN:DAYLIGHT
TZOFFSETFROM:+1000
TZOFFSETTO:+1100
TZNAME:AEDT
DTSTART:20271002T160000
END:DAYLIGHT
END:VTIMEZONE
BEGIN:VEVENT
DTSTART;TZID=Australia/Melbourne:20260507T090000
DTEND;TZID=Australia/Melbourne:20260507T160000
DTSTAMP:20260424T022736
CREATED:20260423T034320Z
LAST-MODIFIED:20260423T034320Z
UID:10000256-1778144400-1778169600@farmtable.com.au
SUMMARY:𝐀𝐮𝐬𝐭𝐫𝐚𝐥𝐢𝐚𝐧-𝐆𝐫𝐨𝐰𝐧 𝐈𝐧𝐧𝐨𝐯𝐚𝐭𝐢𝐨𝐧 𝐄𝐧𝐠𝐚𝐠𝐞 𝐒𝐞𝐬𝐬𝐢𝐨𝐧
DESCRIPTION:Do you have an idea that could improve horticulture? Australian-Grown Innovation is a Hort Innovation program designed to support growers\, value chain partners and innovators in developing ideas that can strengthen Australia’s horticulture industry. \n𝐓𝐡𝐢𝐬 𝐟𝐫𝐞𝐞 𝐢𝐧-𝐩𝐞𝐫𝐬𝐨𝐧 𝐰𝐨𝐫𝐤𝐬𝐡𝐨𝐩 is an opportunity to connect with others across the horticulture ecosystem\, explore new ideas\, and learn how the Australian-Grown Innovation program can help turn ideas into practical solutions.
URL:https://farmtable.com.au/event/%f0%9d%90%80%f0%9d%90%ae%f0%9d%90%ac%f0%9d%90%ad%f0%9d%90%ab%f0%9d%90%9a%f0%9d%90%a5%f0%9d%90%a2%f0%9d%90%9a%f0%9d%90%a7-%f0%9d%90%86%f0%9d%90%ab%f0%9d%90%a8%f0%9d%90%b0%f0%9d%90%a7-%f0%9d%90%88/
LOCATION:Gippsland Tech School\, Corner of Princes Drive & Monash Way\, Morwell\, Victoria\, 3840\, Australia
CATEGORIES:Ag Workshops
END:VEVENT
END:VCALENDAR